BEGIN:VCALENDAR
VERSION:2.0
PRODID:-//Pella Opera House - ECPv6.15.18//NONSGML v1.0//EN
CALSCALE:GREGORIAN
METHOD:PUBLISH
X-ORIGINAL-URL:https://pellaoperahouse.org
X-WR-CALDESC:Events for Pella Opera House
REFRESH-INTERVAL;VALUE=DURATION:PT1H
X-Robots-Tag:noindex
X-PUBLISHED-TTL:PT1H
BEGIN:VTIMEZONE
TZID:America/Chicago
BEGIN:DAYLIGHT
TZOFFSETFROM:-0600
TZOFFSETTO:-0500
TZNAME:CDT
DTSTART:20240310T080000
END:DAYLIGHT
BEGIN:STANDARD
TZOFFSETFROM:-0500
TZOFFSETTO:-0600
TZNAME:CST
DTSTART:20241103T070000
END:STANDARD
BEGIN:DAYLIGHT
TZOFFSETFROM:-0600
TZOFFSETTO:-0500
TZNAME:CDT
DTSTART:20250309T080000
END:DAYLIGHT
BEGIN:STANDARD
TZOFFSETFROM:-0500
TZOFFSETTO:-0600
TZNAME:CST
DTSTART:20251102T070000
END:STANDARD
BEGIN:DAYLIGHT
TZOFFSETFROM:-0600
TZOFFSETTO:-0500
TZNAME:CDT
DTSTART:20260308T080000
END:DAYLIGHT
BEGIN:STANDARD
TZOFFSETFROM:-0500
TZOFFSETTO:-0600
TZNAME:CST
DTSTART:20261101T070000
END:STANDARD
END:VTIMEZONE
BEGIN:VEVENT
DTSTART;TZID=America/Chicago:20250329T190000
DTEND;TZID=America/Chicago:20250329T210000
DTSTAMP:20260419T081029
CREATED:20240718T202232Z
LAST-MODIFIED:20240718T202607Z
UID:10000146-1743274800-1743282000@pellaoperahouse.org
SUMMARY:Pella Corporation Presents ABBA Revisited
DESCRIPTION:ABBA Revisited is North America’s #1 tribute to ABBA and it’s members have been dazzling audiences across the globe since the year 2001. ABBA REVISITED recreates the magic of ABBA with authentic costumes\, spectacular harmonies and note-perfect musicianship taking their audience on a musical journey back in time. From Vegas to Bermuda\, Mexico to Dubai\, and Guatamala\, ABBA Revisited recreated the show stopping look and sound that ABBA fans around the world can’t deny! This show is a MUST SEE!!! \n			\n				\n				\n				\n				\n				For this premium show\, box seats are $75; Premium seats arre $60 and balcony and main floor behind premium are $50 each. All seats are excellent in our intimate theatre space! \nThe Pella Opera House is proud to provide quality arts entertainment to Pella and surrounding communities at affordable rates. \n			\n				Purchase Tickets
URL:https://pellaoperahouse.org/event/pella-corporation-presents-abba-revisited/
LOCATION:Pella Opera House\, 611 Franklin St\, Pella\, IA\, 50219\, United States
CATEGORIES:Show
ATTACH;FMTTYPE=image/jpeg:https://pellaoperahouse.org/wp-content/uploads/2024/07/ABBA-Revisited-image-1.jpg
END:VEVENT
END:VCALENDAR