BEGIN:VCALENDAR
VERSION:2.0
PRODID:-//Pella Opera House - ECPv6.15.18//NONSGML v1.0//EN
CALSCALE:GREGORIAN
METHOD:PUBLISH
X-ORIGINAL-URL:https://pellaoperahouse.org
X-WR-CALDESC:Events for Pella Opera House
REFRESH-INTERVAL;VALUE=DURATION:PT1H
X-Robots-Tag:noindex
X-PUBLISHED-TTL:PT1H
BEGIN:VTIMEZONE
TZID:America/Chicago
BEGIN:DAYLIGHT
TZOFFSETFROM:-0600
TZOFFSETTO:-0500
TZNAME:CDT
DTSTART:20230312T080000
END:DAYLIGHT
BEGIN:STANDARD
TZOFFSETFROM:-0500
TZOFFSETTO:-0600
TZNAME:CST
DTSTART:20231105T070000
END:STANDARD
BEGIN:DAYLIGHT
TZOFFSETFROM:-0600
TZOFFSETTO:-0500
TZNAME:CDT
DTSTART:20240310T080000
END:DAYLIGHT
BEGIN:STANDARD
TZOFFSETFROM:-0500
TZOFFSETTO:-0600
TZNAME:CST
DTSTART:20241103T070000
END:STANDARD
BEGIN:DAYLIGHT
TZOFFSETFROM:-0600
TZOFFSETTO:-0500
TZNAME:CDT
DTSTART:20250309T080000
END:DAYLIGHT
BEGIN:STANDARD
TZOFFSETFROM:-0500
TZOFFSETTO:-0600
TZNAME:CST
DTSTART:20251102T070000
END:STANDARD
BEGIN:DAYLIGHT
TZOFFSETFROM:-0600
TZOFFSETTO:-0500
TZNAME:CDT
DTSTART:20260308T080000
END:DAYLIGHT
BEGIN:STANDARD
TZOFFSETFROM:-0500
TZOFFSETTO:-0600
TZNAME:CST
DTSTART:20261101T070000
END:STANDARD
BEGIN:DAYLIGHT
TZOFFSETFROM:-0600
TZOFFSETTO:-0500
TZNAME:CDT
DTSTART:20270314T080000
END:DAYLIGHT
BEGIN:STANDARD
TZOFFSETFROM:-0500
TZOFFSETTO:-0600
TZNAME:CST
DTSTART:20271107T070000
END:STANDARD
END:VTIMEZONE
BEGIN:VEVENT
DTSTART;TZID=America/Chicago:20260221T190000
DTEND;TZID=America/Chicago:20260221T210000
DTSTAMP:20260419T081029
CREATED:20250718T171354Z
LAST-MODIFIED:20250718T171359Z
UID:10000170-1771700400-1771707600@pellaoperahouse.org
SUMMARY:Pella Corporation Presents Not Quite Brothers
DESCRIPTION:Not Quite Brothers is Central Iowa’s fastest growing cover band. Formed in 2018\, the band quickly became known for their huge sound\, eclectic setlist and ability to enhance any party. Fans of all ages agree… “it feels like I am watching the band they are covering in their heyday” and “It’s so cool to see a younger generation playing my favorite songs on stage!” \nSam Johnson (vocals) and Isaac Johnson (guitar) are twins and although Cooper Corcoran (guitar)\, Ben Schmelzer (drums) and Blake Marsh (bass) are of no relation to each other\, these five fellas are as tight as brothers… but not quite. \n			\n				\n				\n				\n				\n				Tickets to Not Quite Brothers are $35-$50. \nThe Pella Opera House is proud to provide quality arts entertainment to Pella and surrounding communities at affordable rates. \n			\n				Purchase Tickets
URL:https://pellaoperahouse.org/event/pella-corporation-presents-not-quite-brothers/
LOCATION:Pella Opera House\, 611 Franklin St\, Pella\, IA\, 50219\, United States
CATEGORIES:Show
ATTACH;FMTTYPE=image/jpeg:https://pellaoperahouse.org/wp-content/uploads/2024/07/2024-Promo-Photo-Not-Quite-Bros-CROP-WEB.jpg
END:VEVENT
BEGIN:VEVENT
DTSTART;TZID=America/Chicago:20260131T190000
DTEND;TZID=America/Chicago:20260131T210000
DTSTAMP:20260419T081030
CREATED:20260105T195847Z
LAST-MODIFIED:20260107T165712Z
UID:10000186-1769886000-1769893200@pellaoperahouse.org
SUMMARY:Pella Corporation Presents Emily Raff
DESCRIPTION:Emily Raff is making a lasting impression on thousands of music fans across the Midwest. Over the last year\, she expanded her reach into Nashville and west – and her songwriting bears the evidence. Recent releases “Watch Over You” and “Empty Bottles\, Broken Glass” are testaments to Emily’s determination to claim her space as a songwriter. Armed with a guitar and powerful vocals\, Emily covers great songs from Lainey Wilson\, Miranda Lambert\, Megan Moroney and more! Join us for a night with this up-and-coming country singer! \n			\n				\n				\n				\n				\n				Tickets to the Emily Raff are $35-$50. \nThe Pella Opera House is proud to provide quality arts entertainment to Pella and surrounding communities at affordable rates. \n			\n				Purchase Tickets
URL:https://pellaoperahouse.org/event/pella-corporation-presents-emily-raff/
LOCATION:Pella Opera House\, 611 Franklin St\, Pella\, IA\, 50219\, United States
CATEGORIES:Show
ATTACH;FMTTYPE=image/jpeg:https://pellaoperahouse.org/wp-content/uploads/2026/01/Emily-Raff-web.jpg
END:VEVENT
BEGIN:VEVENT
DTSTART;TZID=America/Chicago:20251004T190000
DTEND;TZID=America/Chicago:20251004T210000
DTSTAMP:20260419T081030
CREATED:20250718T160514Z
LAST-MODIFIED:20250728T165152Z
UID:10000167-1759604400-1759611600@pellaoperahouse.org
SUMMARY:Nashville North: Songs and Stories
DESCRIPTION:Join us as two hit songwriters including David Lee and Anthony Smith bring great music and fabulous stories to the theatre. \nDavid Lee and co-writer Tony Lane landed their first cut together “This Old Heart” on Terri Clark’s “How I Feel”\, shortly after he penned John Michael Montgomery’s title cut “This One’s Gonna Leave a Mark”. His first Top 10 came with Leann Womack’s “Now You See Me Now you Don’t”\, followed by Brad Martin’s “Before I Knew Better” in 2002. \nIn 2003 David signed with BMG Music Publishing and co-wrote his first #1 song “19 Somethin” for Mark Wills\, in 2004 “Letters From Home” for John Michael Montgomery\, followed by “Lucky Man” performed by Montgomery Gentry. In 2008 Tim McGraw and Faith Hill sung Lee’s riveting love song “I Need You” for which Lee received a Song of the Year Grammy nomination. \nSongs written by Anthony Smith are woven into the fabric of country music. His songs have shaped the careers for some of the most iconic country music artists like George Strait\, Tim McGraw\, Blake Shelton\, Chris Stapleton\, Eric Church\, Montgomery Gentry and others. \nAnthony has the uncanny and rare talent of writing songs in ways that have never been written before\, that generates visuals and impacts emotions for listeners. With memorable song titles like “Cowboy’s Like Us”\, “Who Invented The Wheel”\, “Half a Man”\, “Run”\, “I’m Tryin’”\, “Up To The Depths”\, “Infinity” and more\, you know Anthony’s songs are interesting and capture the imagination of the listener. \nTickets are also available for “One More Round” after the show in the Great Hall. 70 lucky concert goers can purchase a $10 ticket to hear another round of songs and stories! \n			\n				\n				\n				\n				\n				Tickets to Nashville North are $35-$50. Join us for “One More Round” after the show for only $10 per person! \nThe Pella Opera House is proud to provide quality arts entertainment to Pella and surrounding communities at affordable rates. \n			\n				Purchase Tickets
URL:https://pellaoperahouse.org/event/nashville-north-songs-and-stories/
LOCATION:Pella Opera House\, 611 Franklin St\, Pella\, IA\, 50219\, United States
CATEGORIES:Show
ATTACH;FMTTYPE=image/jpeg:https://pellaoperahouse.org/wp-content/uploads/2021/08/Nashville_north_website_version.jpg
END:VEVENT
BEGIN:VEVENT
DTSTART;TZID=America/Chicago:20250516T160000
DTEND;TZID=America/Chicago:20250516T223000
DTSTAMP:20260419T081030
CREATED:20250505T224152Z
LAST-MODIFIED:20250515T231217Z
UID:10000161-1747411200-1747434600@pellaoperahouse.org
SUMMARY:Opera House Outdoors May 16\, 2025
DESCRIPTION:Join us for Opera House Outdoors on Friday\, May 16 in the 600 block of Franklin Street in Pella\, Iowa. \nHeadlining this year’s event is ONE NIGHT OF QUEEN\, sponsored by Pella Corporation as part of their Centennial Celebration! One Night Of Queen is touring throughout the US in 2025 and bringing their celebrated show to Opera House Outdoors for one night only! Their performance begins around 8 pm. \nIn addition to One Night Of Queen\, the music starts at 4 pm with singer/songwriter Robbie Michael\, followed at 5:30 by Dutch Front Band. In between bands\, the street will rock to our favorite playlists while we set up for the next set! \nMuch of Franklin Street will be fenced off for alcohol sales. To enter the fenced area\, you must be 21 or older and have a wristband. Wristbands may be purchased on the day of the show with a 21+ ID for each band. Wristband sales begin at 8 am at The Bread Board and at 1 pm at the Pella Opera House. Pre-purchased bands must be picked up at the Pella Opera House after 1 pm. IDs will be required for each band. \nFood trucks will be available on East 1st between Franklin and the alley. Bring your lawn chair to sit either inside or outside the fence! \n			\n				\n				\n				\n				\n				To enter the fenced area\, you must be 21 or older and have a wristband. Wristbands may be purchased on the day of the show for $15 each. ALL wristbands must be picked up on the day of the show with a 21+ ID for each band. \nSpace is available at the west end of the 600 block of Franklin Street to set up your lawn chairs and listen for FREE. \nThe Pella Opera House is proud to provide quality arts entertainment and special events to Pella and surrounding communities at affordable rates.
URL:https://pellaoperahouse.org/event/opera-house-outdoors-may-16-2025/
LOCATION:Pella Opera House\, 611 Franklin St\, Pella\, IA\, 50219\, United States
CATEGORIES:Event,Show
ATTACH;FMTTYPE=image/png:https://pellaoperahouse.org/wp-content/uploads/2025/05/OHO-logo.png
END:VEVENT
BEGIN:VEVENT
DTSTART;TZID=America/Chicago:20241012T190000
DTEND;TZID=America/Chicago:20241012T210000
DTSTAMP:20260419T081030
CREATED:20240718T201934Z
LAST-MODIFIED:20240718T205133Z
UID:10000145-1728759600-1728766800@pellaoperahouse.org
SUMMARY:Randall Roofing Presents Nashville North: Songs and Stories
DESCRIPTION:Hear the hits from Kenny Chesney\, Jason Aldean\, Rascal Flatts\, Carrie Underwood\, Luke Bryan\, Lee Brice\, Trace Adkins\, Tim McGraw\, Chris Stapleton\, Garth Brooks and more by the songwriters who wrote them! Hit Songwriters Lee Thomas Miller and Wendell Mobley bring great music and fabulous stories to the theatre. Tickets are also available for “One More Round” after the show in the Great Hall. 70 lucky concert goers can purchase a $10 tickets to hear another round of songs and stories! \n​ \n			\n				\n				\n				\n				\n				Tickets to Nashville North are $35-$50. Join us for “One More Round” after the show for only $10 per person! \nThe Pella Opera House is proud to provide quality arts entertainment to Pella and surrounding communities at affordable rates. \n			\n				Purchase Tickets
URL:https://pellaoperahouse.org/event/randall-roofing-presents-nashville-north-songs-and-stories/
LOCATION:Pella Opera House\, 611 Franklin St\, Pella\, IA\, 50219\, United States
CATEGORIES:Show
ATTACH;FMTTYPE=image/jpeg:https://pellaoperahouse.org/wp-content/uploads/2021/08/Nashville_north_website_version.jpg
END:VEVENT
BEGIN:VEVENT
DTSTART;TZID=America/Chicago:20240920T190000
DTEND;TZID=America/Chicago:20240920T210000
DTSTAMP:20260419T081030
CREATED:20240718T210229Z
LAST-MODIFIED:20240718T211455Z
UID:10000149-1726858800-1726866000@pellaoperahouse.org
SUMMARY:Not Quite Brothers
DESCRIPTION:Not Quite Brothers is Central Iowa’s fastest growing cover band. Formed in 2018\, the band quickly became known for their huge sound\, eclectic setlist and ability to enhance any party. Fans of all ages agree… “it feels like I am watching the band they are covering in their heyday” and “It’s so cool to see a younger generation playing my favorite songs on stage!” \nSam Johnson (vocals) and Isaac Johnson (guitar) are twins and although Cooper Corcoran (guitar)\, Ben Schmelzer (drums) and Blake Marsh (bass) are of no relation to each other\, these five fellas are as tight as brothers… but not quite. \n			\n				\n				\n				\n				\n				Tickets to Not Quite Brothers are $35-$50. \nThe Pella Opera House is proud to provide quality arts entertainment to Pella and surrounding communities at affordable rates. \n			\n				Purchase Tickets
URL:https://pellaoperahouse.org/event/not-quite-brothers/
LOCATION:Pella Opera House\, 611 Franklin St\, Pella\, IA\, 50219\, United States
CATEGORIES:Show
ATTACH;FMTTYPE=image/jpeg:https://pellaoperahouse.org/wp-content/uploads/2024/07/2024-Promo-Photo-Not-Quite-Bros-CROP-WEB.jpg
END:VEVENT
BEGIN:VEVENT
DTSTART;TZID=America/Chicago:20240504T160000
DTEND;TZID=America/Chicago:20240504T171500
DTSTAMP:20260419T081030
CREATED:20240207T223946Z
LAST-MODIFIED:20240315T195312Z
UID:10000130-1714838400-1714842900@pellaoperahouse.org
SUMMARY:TULIP TIME: Jara Johnson: Singer and Songwriter
DESCRIPTION:Singer and songwriter Jara Johnson returns to the Pella Opera House with the songs you love and the songs she’s written. \nJara’s musical journey has taken her out of Iowa to Texas to Nashville and back to Iowa where she now resides in Pella with her family. Music still is a large part of her story as she continues to travel back and forth to Nashville to write and record music as well as working to bring other artists and songwriters here to the Pella Opera House to perform as part of her role as Associate Director at the Opera House Jara has released several albums and singles of her original songs available on iTunes\, Spotify & YouTube. Her soulful country sound and down home personality will make you feel at home and welcome you into her music and a window into her world as a songwriter. \n			\n				\n				\n				\n				\n				Tickets to Jara Johnson: Singer and Songwriter are $20 adults and $12 for youth up to 18 years old. \nThe Pella Opera House is proud to provide quality arts entertainment to Pella and surrounding communities at affordable rates. \n			\n				Purchase Tickets
URL:https://pellaoperahouse.org/event/tulip-time-jara-johnson-singer-and-songwriter/
LOCATION:Pella Opera House\, 611 Franklin St\, Pella\, IA\, 50219\, United States
CATEGORIES:Show
ATTACH;FMTTYPE=image/jpeg:https://pellaoperahouse.org/wp-content/uploads/2024/02/IMG_3688.jpg
END:VEVENT
END:VCALENDAR